BEGIN:VCALENDAR
VERSION:2.0
PRODID:-//ΠΑΛΑΙΧΘΩΝ ΚΟΡΙΝΘΟΥ
CALSCALE:GREGORIAN
METHOD:PUBLISH
X-WR-CALNAME:ΠΑΛΑΙΧΘΩΝ ΚΟΡΙΝΘΟΥ
X-ORIGINAL-URL:https://palaixthonkorinthou.gr/?u_event=%ce%bb%ce%b1%ce%bf%ce%b3%cf%81%ce%b1%cf%86%ce%b9%ce%ba%ce%ac-%cf%84%ce%bf%cf%85-%ce%bb%ce%b1%ce%b6%ce%ac%cf%81%ce%bf%cf%85-%cf%84%cf%89%ce%bd-%ce%b2%ce%b1%ce%90%cf%89%ce%bd-%ce%ba%ce%b1%ce%b9-%cf%84
X-WR-CALDESC:Λαογραφικά του Λαζάρου, των Βαΐων και του Πάσχα
BEGIN:VEVENT
DTSTART:20190413T193000
DTEND:20190413T210000
SUMMARY:Λαογραφικά του Λαζάρου, των Βαΐων και του Πάσχα
DESCRIPTION:Είναι γνωστό ότι η φύση υπήρξε πάντα το τελετουργικό περίβλημα της ζωής. Από εκεί ξεκίνησαν οι πολιτισμοί, οι θρησκείες, τα έθιμα. 
LOCATION:Αδειμάντου 12, Κόρινθος - Συναυλιακός Χώρος "Μαρία Δημητριάδη"
END:VEVENT
END:VCALENDAR
