BEGIN:VCALENDAR
VERSION:2.0
PRODID:-//ΠΑΛΑΙΧΘΩΝ ΚΟΡΙΝΘΟΥ
CALSCALE:GREGORIAN
METHOD:PUBLISH
X-WR-CALNAME:ΠΑΛΑΙΧΘΩΝ ΚΟΡΙΝΘΟΥ
X-ORIGINAL-URL:https://palaixthonkorinthou.gr/?u_event=%cf%80%ce%bb%ce%b1%cf%84%cf%89%ce%bd%ce%bf%cf%83-%ce%b2%ce%b9%ce%bf%cf%83-%ce%ba%ce%b1%ce%b9-%ce%b5%cf%81%ce%b3%ce%b1
X-WR-CALDESC:Πλάτωνος Βίος και Έργα
BEGIN:VEVENT
DTSTART:20190216T190000
DTEND:20190216T210000
SUMMARY:Πλάτωνος Βίος και Έργα
DESCRIPTION:Ὁ Κωνσταντῖνος Σταυρόπουλος εἶναι Διπλ. Μηχανολόγος Μηχανικὸς τῆς Πολυτεχνικῆς Σχολῆς τοῦ Πανεπιστημίου Πατρῶν. Τὸ 2003 εἰσήχθη στὸ Μεταπτυχιακὸ Τμῆμα Ἱστορίας τῆς Φιλοσοφίας τοῦ Ἀθήνησι Πανεπιστημίου, 
LOCATION:Αδειμάντου 12, Κόρινθος - Συναυλιακός Χώρος "Μαρία Δημητριάδη"
END:VEVENT
END:VCALENDAR
