BEGIN:VCALENDAR
VERSION:2.0
PRODID:-//ΠΑΛΑΙΧΘΩΝ ΚΟΡΙΝΘΟΥ
CALSCALE:GREGORIAN
METHOD:PUBLISH
X-WR-CALNAME:ΠΑΛΑΙΧΘΩΝ ΚΟΡΙΝΘΟΥ
X-ORIGINAL-URL:https://palaixthonkorinthou.gr/?u_event=%ce%b1%ce%bd%ce%ac%ce%bb%cf%85%cf%83%ce%b7-%cf%84%cf%89%ce%bd-%cf%83%cf%85%ce%bd%ce%b1%ce%b9%cf%83%ce%b8%ce%b7%ce%bc%ce%ac%cf%84%cf%89%ce%bd-%ce%ba%ce%b1%ce%b9-%cf%88%cf%85%cf%87%ce%b9%ce%ba%cf%8e
X-WR-CALDESC:Ανάλυση των συναισθημάτων και ψυχικών καταστάσεων στον Κρατύλο του Πλάτωνος
BEGIN:VEVENT
DTSTART:20190316T190000
DTEND:20190316T213000
SUMMARY:Ανάλυση των συναισθημάτων και ψυχικών καταστάσεων στον Κρατύλο του Πλάτωνος
DESCRIPTION:Πώς εξηγούνται η λύπη, η χαρά, ο θυμός, η επιθυμία, ο πόθος, ο ίμερος, η οδύνη, η ηδονή, κ.α. μες από την ετυμολογική και φιλοσοφική ανάλυση στον «Κρατύλο - Περί Ονομάτων Ορθότητος» του Πλάτωνος.
LOCATION:Αδειμάντου 12, Κόρινθος - Συναυλιακός Χώρος "Μαρία Δημητριάδη"
END:VEVENT
END:VCALENDAR
